BEGIN:VCALENDAR
VERSION:2.0
PRODID:-//SafeStreets - ECPv6.15.17//NONSGML v1.0//EN
CALSCALE:GREGORIAN
METHOD:PUBLISH
X-WR-CALNAME:SafeStreets
X-ORIGINAL-URL:https://safestreets.ilovemelville.co.za
X-WR-CALDESC:Events for SafeStreets
REFRESH-INTERVAL;VALUE=DURATION:PT1H
X-Robots-Tag:noindex
X-PUBLISHED-TTL:PT1H
BEGIN:VTIMEZONE
TZID:Africa/Johannesburg
BEGIN:STANDARD
TZOFFSETFROM:+0200
TZOFFSETTO:+0200
TZNAME:SAST
DTSTART:20210101T000000
END:STANDARD
END:VTIMEZONE
BEGIN:VEVENT
DTSTART;TZID=Africa/Johannesburg:20221008T090000
DTEND;TZID=Africa/Johannesburg:20221008T140000
DTSTAMP:20260421T143643
CREATED:20221004T192529Z
LAST-MODIFIED:20221004T192529Z
UID:662-1665219600-1665237600@safestreets.ilovemelville.co.za
SUMMARY:Come meet up with the MSI & Melville Safe Streets Project Team
DESCRIPTION:
URL:https://safestreets.ilovemelville.co.za/event/come-meet-up-with-the-msi-melville-safe-streets-project-team/
LOCATION:Gauteng
ORGANIZER;CN="Safe Streets Project Team":MAILTO:safestreets@ilovemelville.co.za
END:VEVENT
END:VCALENDAR